BEGIN:VCALENDAR
VERSION:2.0
PRODID:-//ChamberMaster//Event Calendar 2.0//EN
METHOD:PUBLISH
X-PUBLISHED-TTL:P3D
REFRESH-INTERVAL:P3D
CALSCALE:GREGORIAN
BEGIN:VEVENT
DTSTART;VALUE=DATE:20161112
DTEND;VALUE=DATE:20161114
TRANSP:TRANSPARENT
X-MICROSOFT-CDO-ALLDAYEVENT:TRUE
SUMMARY:Holiday Open House and Gift Market at Robin's Egg
DESCRIPTION:We are known for having one of the most amazing holiday markets in the region. This event is your "one-stop-shop" for seasonal decor and gifts. Holiday cheer and hand-made\, unique\, vintage\, one-of-a-kind displays will fill every nook and cranny in the shop! Get exclusive early-bird access and shop an hour early before the public! Ask for details.
X-ALT-DESC;FMTTYPE=text/html:We are known for having one of the most amazing holiday markets in the region. This event is your &quot\;one-stop-shop&quot\; for seasonal decor and gifts. Holiday cheer and hand-made\, unique\, vintage\, one-of-a-kind displays will fill every nook and cranny in the shop! Get exclusive early-bird access and shop an hour early before the public! Ask for details.
LOCATION:326 Nashua Street Milford\, NH 03055
UID:e.2735.585
SEQUENCE:3
DTSTAMP:20260420T225825Z
URL:http://members.gmsvcc.org/events/details/holiday-open-house-and-gift-market-at-robin-s-egg-11-12-2016-585
END:VEVENT

END:VCALENDAR
