BEGIN:VCALENDAR
VERSION:2.0
PRODID:-//ChamberMaster//Event Calendar 2.0//EN
METHOD:PUBLISH
X-PUBLISHED-TTL:P3D
REFRESH-INTERVAL:P3D
CALSCALE:GREGORIAN
BEGIN:VEVENT
DTSTART:20161214T223000Z
DTEND:20161215T003000Z
X-MICROSOFT-CDO-ALLDAYEVENT:FALSE
SUMMARY:Holiday Business After Hours at Opportunity Networks!
DESCRIPTION:Join us for holiday cheer and networking at Opportunity Networks! Opportunity Networks is committed to providing genuine vocational opportunities and activities that promote life-enhancing skills for adults with developmental and acquired disabilities in Greater Nashua/Souhegan Valley community. \n\n\n\nCheck out their Snoezelen Room. Snoezelen is a combination of two Dutch words to mean\, "to explore and relax\," is a multisensory room that provides users a safe and controlled environment for investigating and exploring various stimuli.
X-ALT-DESC;FMTTYPE=text/html:Join us&nbsp\;for holiday cheer and networking at Opportunity Networks!&nbsp\;<span style="background-color: rgba(238\, 238\, 34\, 0.14902)\;">Opportunity Networks is committed to providing genuine vocational opportunities and activities that promote life-enhancing skills for adults with developmental and acquired disabilities in Greater Nashua/Souhegan Valley community.&nbsp\;</span><br />\n<br />\n<span style="background-color: rgba(238\, 238\, 34\, 0.14902)\;">Check out their&nbsp\;</span><span style="font-family: Lora\, Arial\, sans-serif\; font-size: 16px\; text-align: center\; background-color: rgb(255\, 255\, 255)\;">Snoezelen Room. </span>Snoezelen<span style="font-family: Lora\, Arial\, sans-serif\; font-size: 16px\; text-align: center\;">&nbsp\;</span><span style="font-family: Lora\, Arial\, sans-serif\; font-size: 16px\; text-align: center\; background-color: rgb(255\, 255\, 255)\;">is a combination of two Dutch words to mean\, &ldquo\;to explore and relax\,&rdquo\; is a multisensory room that provides users a safe and controlled environment for investigating and exploring various stimuli.</span>
LOCATION:11 Caldwell Ave\, Amherst NH 03031
UID:e.2735.414
SEQUENCE:3
DTSTAMP:20260420T212221Z
URL:http://members.gmsvcc.org/events/details/holiday-business-after-hours-at-opportunity-networks-414
END:VEVENT

END:VCALENDAR
