BEGIN:VCALENDAR
VERSION:2.0
PRODID:-//ChamberMaster//Event Calendar 2.0//EN
METHOD:PUBLISH
X-PUBLISHED-TTL:P3D
REFRESH-INTERVAL:P3D
CALSCALE:GREGORIAN
BEGIN:VEVENT
DTSTART:20161007T220000Z
DTEND:20161008T000000Z
X-MICROSOFT-CDO-ALLDAYEVENT:FALSE
SUMMARY:HO Slot Car Racing at Double Play Hobby Shop
DESCRIPTION:Friday nights\, HO Slot Car Racing at Double Play Hobby Shop! Call Bill for more info\, 603) 582-4224 .
X-ALT-DESC;FMTTYPE=text/html:Friday nights\, HO Slot Car Racing at Double Play Hobby Shop! Call Bill for more info\,&nbsp\;<span style="color: rgb(0\, 0\, 0)\; font-family: Arial\, Helvetica\, &quot\;MS Sans Serif&quot\;\, sans-serif\; font-size: 11px\; line-height: normal\;">603) 582-4224&nbsp\;</span>.
LOCATION:318 Nashua Street Milford\, Same building as Cardoza Flooring.
UID:e.2735.599
SEQUENCE:3
DTSTAMP:20260420T230031Z
URL:http://members.gmsvcc.org/events/details/ho-slot-car-racing-at-double-play-hobby-shop-599
END:VEVENT

END:VCALENDAR
