BEGIN:VCALENDAR
VERSION:2.0
PRODID:-//ChamberMaster//Event Calendar 2.0//EN
METHOD:PUBLISH
X-PUBLISHED-TTL:P3D
REFRESH-INTERVAL:P3D
CALSCALE:GREGORIAN
BEGIN:VEVENT
DTSTART:20170210T170000Z
DTEND:20170210T190000Z
X-MICROSOFT-CDO-ALLDAYEVENT:FALSE
SUMMARY:Government Action Committee Meeting
DESCRIPTION:We will be going over the Senate and House bills focused on workforce development\, energy and transportation issues.
X-ALT-DESC;FMTTYPE=text/html:We will be going over the Senate and House bills focused on workforce development\, energy and transportation issues.
LOCATION:SVCC Office
UID:e.2735.645
SEQUENCE:3
DTSTAMP:20260420T183551Z
URL:http://members.gmsvcc.org/events/details/government-action-committee-meeting-645
END:VEVENT

END:VCALENDAR
