BEGIN:VCALENDAR
VERSION:2.0
PRODID:-//ChamberMaster//Event Calendar 2.0//EN
METHOD:PUBLISH
X-PUBLISHED-TTL:P3D
REFRESH-INTERVAL:P3D
CALSCALE:GREGORIAN
BEGIN:VEVENT
DTSTART:20180108T170000Z
DTEND:20180108T180000Z
X-MICROSOFT-CDO-ALLDAYEVENT:FALSE
SUMMARY:Government Action Committee Meeting
DESCRIPTION:Discussion of Upcoming legislation that will impact the Souhegan Valley businesses. Lunch will be provided.
X-ALT-DESC;FMTTYPE=text/html:Discussion&nbsp\;of Upcoming legislation that will impact the Souhegan Valley businesses. Lunch will be provided.
LOCATION:Chamber Office 69 Route 101A
UID:e.2735.3086
SEQUENCE:3
DTSTAMP:20260419T235037Z
URL:http://members.gmsvcc.org/events/details/government-action-committee-meeting-3086
END:VEVENT

END:VCALENDAR
