BEGIN:VCALENDAR
VERSION:2.0
PRODID:-//ChamberMaster//Event Calendar 2.0//EN
METHOD:PUBLISH
X-PUBLISHED-TTL:P3D
REFRESH-INTERVAL:P3D
CALSCALE:GREGORIAN
BEGIN:VEVENT
DTSTART:20170127T170000Z
DTEND:20170127T180000Z
X-MICROSOFT-CDO-ALLDAYEVENT:FALSE
SUMMARY:Government Action Committee Meeting
DESCRIPTION:We will be going over the Senate and House LSR's focused on workforce development\, energy and transportation issues.
X-ALT-DESC;FMTTYPE=text/html:We will be going over the Senate and House LSR&#39\;s focused on workforce development\, energy and transportation issues.
LOCATION:SVCCOffice
UID:e.2735.637
SEQUENCE:3
DTSTAMP:20260420T183625Z
URL:http://members.gmsvcc.org/events/details/government-action-committee-meeting-01-27-2017-637
END:VEVENT

END:VCALENDAR
