BEGIN:VCALENDAR
VERSION:2.0
PRODID:-//ChamberMaster//Event Calendar 2.0//EN
METHOD:PUBLISH
X-PUBLISHED-TTL:P3D
REFRESH-INTERVAL:P3D
CALSCALE:GREGORIAN
BEGIN:VEVENT
DTSTART:20161215T123000Z
DTEND:20161215T143000Z
X-MICROSOFT-CDO-ALLDAYEVENT:FALSE
SUMMARY:Government Action Committee Listening Session
DESCRIPTION:Does your company have a voice in the growth of our region? The Souhegan Valley Chamber of Commerce is pleased to announce the formation of our Government Action Committee. The intent of this committee is to advocate for (or against) local\, state\, and federal legislative items that affect our members\, town government and the economic climate in the eleven towns of the Souhegan Valley.   \n\nWe would like to invite you to help us establish our public policy priorities for 2017 by letting us know what issues are of topmost concern to your business\, town or nonprofit organization. Our first meeting will be on Thursday\, December 15 at 7:30 AM at the Chamber Offices at 69 Route 101A in Amherst.  We will also be laying out a meeting schedule for the upcoming months.
X-ALT-DESC;FMTTYPE=text/html:Does your company have a voice in the growth of our region? The Souhegan Valley Chamber of Commerce is pleased to announce the formation of our Government Action Committee. The intent of this committee is to advocate for (or against) local\, state\, and federal legislative items that affect our members\, town government and the economic climate in the eleven towns of the Souhegan Valley.&nbsp\; &nbsp\;<br />\n<span style="font-family:calibri\,sans-serif\;"><span style="font-size:11.0pt\;">We would like to invite you to help us establish our public policy priorities for 2017 by letting us know what issues are of topmost concern to your business\, town or nonprofit organization. Our first meeting will be on Thursday\, December 15 at 7:30 AM at the Chamber Offices at 69 Route 101A in Amherst.&nbsp\; We will also be laying out a meeting schedule for the upcoming months.&nbsp\;</span></span>
LOCATION:Souhegan Valley Chamber of Commerce 69 Route 101A (same building as Granite Bank) Amherst NH 03031
UID:e.2735.618
SEQUENCE:3
DTSTAMP:20260420T212037Z
URL:http://members.gmsvcc.org/events/details/government-action-committee-listening-session-618
END:VEVENT

END:VCALENDAR
