BEGIN:VCALENDAR
VERSION:2.0
PRODID:-//ChamberMaster//Event Calendar 2.0//EN
METHOD:PUBLISH
X-PUBLISHED-TTL:P3D
REFRESH-INTERVAL:P3D
CALSCALE:GREGORIAN
BEGIN:VEVENT
DTSTART:20170111T133000Z
DTEND:20170111T143000Z
X-MICROSOFT-CDO-ALLDAYEVENT:FALSE
SUMMARY:Government Action Committee
DESCRIPTION:We will be finalizing our Strategic Plan for 2017 and identifying applicable legislation and policy.  Please join us and make your voice heard.
X-ALT-DESC;FMTTYPE=text/html:<span style="color: rgb(31\, 73\, 125)\; font-family: arial\, sans-serif\; font-size: 18.6667px\; text-indent: 48px\;">We will be finalizing our Strategic Plan for 2017 and identifying applicable legislation and policy.&nbsp\; Please join us and make your voice heard.</span>
LOCATION:SVCC Office 69 Route 101A\, Amherst NH 03031
UID:e.2735.621
SEQUENCE:3
DTSTAMP:20260420T183026Z
URL:http://members.gmsvcc.org/events/details/government-action-committee-621
END:VEVENT

END:VCALENDAR
