BEGIN:VCALENDAR
VERSION:2.0
PRODID:-//ChamberMaster//Event Calendar 2.0//EN
METHOD:PUBLISH
X-PUBLISHED-TTL:P3D
REFRESH-INTERVAL:P3D
CALSCALE:GREGORIAN
BEGIN:VEVENT
DTSTART:20170406T220000Z
DTEND:20170406T230000Z
X-MICROSOFT-CDO-ALLDAYEVENT:FALSE
SUMMARY:Generation Found - Discussion on the Youth Generation
DESCRIPTION:
X-ALT-DESC;FMTTYPE=text/html:
LOCATION:The Amato Center for the Performing Arts 56 Mont Vernon Street Milford NH 03055
UID:e.2735.784
SEQUENCE:3
DTSTAMP:20260420T140112Z
URL:http://members.gmsvcc.org/events/details/generation-found-discussion-on-the-youth-generation-784
END:VEVENT

END:VCALENDAR
