BEGIN:VCALENDAR
VERSION:2.0
PRODID:-//ChamberMaster//Event Calendar 2.0//EN
METHOD:PUBLISH
X-PUBLISHED-TTL:P3D
REFRESH-INTERVAL:P3D
CALSCALE:GREGORIAN
BEGIN:VEVENT
DTSTART:20180125T160000Z
DTEND:20180125T170000Z
X-MICROSOFT-CDO-ALLDAYEVENT:FALSE
SUMMARY:Free Business Webinar: Save Money with Solar and Increase Customer Loyalty
DESCRIPTION:ReVision Energy is hosting a business webinar to outline the story of one of its commercial clients. The discussion will include a member of the ReVision team along with Barry Kahn of Caravan Beads in Portland\, ME. Together\, they'll outline the Portland project and share information on how solar energy decreases operating costs\, increases energy independence and builds customer loyalty.
X-ALT-DESC;FMTTYPE=text/html:ReVision Energy is hosting a business webinar to outline the story of one of its&nbsp\;commercial clients. The discussion will include a member of the ReVision team along with Barry Kahn of Caravan Beads in Portland\, ME. Together\, they&#39\;ll outline the Portland project and share information on how solar energy decreases operating costs\, increases energy independence and builds customer loyalty.<br />\n&nbsp\;
LOCATION:Simply click on the link to register: https://register.gotowebinar.com/register/8956043764720683011.
UID:e.2735.3097
SEQUENCE:3
DTSTAMP:20260419T235037Z
URL:http://members.gmsvcc.org/events/details/free-business-webinar-save-money-with-solar-and-increase-customer-loyalty-3097
END:VEVENT

END:VCALENDAR
