BEGIN:VCALENDAR
VERSION:2.0
PRODID:-//ChamberMaster//Event Calendar 2.0//EN
METHOD:PUBLISH
X-PUBLISHED-TTL:P3D
REFRESH-INTERVAL:P3D
CALSCALE:GREGORIAN
BEGIN:VEVENT
DTSTART:20180124T223000Z
DTEND:20180125T003000Z
X-MICROSOFT-CDO-ALLDAYEVENT:FALSE
SUMMARY:Fraud Protection Seminar
DESCRIPTION:FRAUD CAN APPEAR IN MANY FORMS.DON'T LET IT TURN YOUR LIFE UPSIDE DOWN. \n\nSelf-defense for your personal and business assets and INFORMATION.\n\n\n\n This informative seminar will feature Tina Smith AVP Branch Manager\, People's United Bank\,  Alison Dumont Regional Account Executive\, People's United Bank\, Sergeant Andrew Fowle of the Milford Police Department\, who will discuss different types of consumer fraud:\n\n How to detect it and how to protect yourself against it.\n\n \n\nTopics will include:\n\n  Cyber threats and how to help protect yourself from spam\, scams\, phishing and malware.\n\n  Ways to help ensure transaction account safety -- including examples of common scams\, debit card protection measures\, handling suspicious account transactions and tips on how to prevent wire fraud.\n\n  How to protect your credit and prevent ID theft\, including what to do if it happens to you.\n\n  Accept Credit cards? What does EMV and PCI Compliance mean to you? \n\n  And more
X-ALT-DESC;FMTTYPE=text/html:<span style="font-weight:bold\;text-transform:uppercase\;language:en-US\;"><span style="color:#005695\;"><span style="font-family:san-serif\;"><span style="font-size:12.0pt\;">FRAUD CAN APPEAR IN MANY FORMS.DON&#39\;T LET IT TURN YOUR LIFE UPSIDE DOWN. </span></span></span></span><br />\n<span style="font-weight:bold\;text-transform:uppercase\;language:en-US\;"><span style="color:#005695\;"><span style="font-family:san-serif\;"><span style="font-size:12.0pt\;">Self-defense for your personal and business assets and INFORMATION.</span></span></span></span><br />\n<br />\n&nbsp\;<span style="font-weight:bold\;language:en-US\;"><span style="font-family:arial\;"><span style="font-size:12.0pt\;">This informative seminar will feature&nbsp\;Tina Smith AVP Branch Manager\, People&rsquo\;s United Bank\,&nbsp\; Alison Dumont Regional Account Executive\, People&rsquo\;s United Bank\, Sergeant Andrew Fowle of the Milford Police Department\, who will discuss different types of consumer fraud:</span></span></span><br />\n&nbsp\;<span style="font-style:italic\;font-weight:bold\;language:en-US\;"><span style="font-family:arial\;"><span style="font-size:14.0pt\;">How to detect it and how to protect yourself against it.</span></span></span><br />\n&nbsp\;<br />\n<span style="font-weight:bold\;language:en-US\;"><span style="font-family:arial\;"><span style="font-size:10.5pt\;">Topics will include:</span></span></span><br />\n<span style="direction:ltr\;unicode-bidi:embed\;"><span style="font-size:12pt\;"><span style="font-family:symbol\;">&middot\;</span></span></span>&nbsp\;<span style="font-weight:bold\;language:en-US\;"><span style="font-family:arial\;"><span style="font-size:10.5pt\;">Cyber threats and how to help protect yourself from spam\, scams\, phishing and malware.</span></span></span><br />\n<span style="direction:ltr\;unicode-bidi:embed\;"><span style="font-size:12pt\;"><span style="font-family:symbol\;">&middot\;</span></span></span>&nbsp\;<span style="font-weight:bold\;language:en-US\;"><span style="font-family:arial\;"><span style="font-size:10.5pt\;">Ways to help ensure transaction account safety -- including examples of common scams\, debit card protection measures\, handling suspicious account transactions and tips on how to prevent wire fraud.</span></span></span><br />\n<span style="direction:ltr\;unicode-bidi:embed\;"><span style="font-size:12pt\;"><span style="font-family:symbol\;">&middot\;</span></span></span>&nbsp\;<span style="font-weight:bold\;language:en-US\;"><span style="font-family:arial\;"><span style="font-size:10.5pt\;">How to protect your credit and prevent ID theft\, including what to do if it happens to you.</span></span></span><br />\n<span style="direction:ltr\;unicode-bidi:embed\;"><span style="font-size:12pt\;"><span style="font-family:symbol\;">&middot\;</span></span></span>&nbsp\;<span style="font-weight:bold\;language:en-US\;"><span style="font-family:arial\;"><span style="font-size:10.5pt\;">Accept Credit cards? What does EMV and PCI Compliance mean to you?</span></span></span>&nbsp\;<br />\n<span style="direction:ltr\;unicode-bidi:embed\;"><span style="font-size:12pt\;"><span style="font-family:symbol\;">&middot\;</span></span></span>&nbsp\;<span style="font-weight:bold\;language:en-US\;"><span style="font-family:arial\;"><span style="font-size:10.5pt\;">And more&hellip\;&hellip\; &nbsp\;</span></span></span><br />\n&nbsp\;
LOCATION:Hosted by People's United Bank and the Milford Police Department Wednesday\, Jan 24th\, 5:30pm- 7:30pm at People's United Bank 28 Jones Road in Milford Light refreshments will be served
UID:e.2735.3069
SEQUENCE:3
DTSTAMP:20260419T234554Z
URL:http://members.gmsvcc.org/events/details/fraud-protection-seminar-3069
END:VEVENT

END:VCALENDAR
