BEGIN:VCALENDAR
VERSION:2.0
PRODID:-//ChamberMaster//Event Calendar 2.0//EN
METHOD:PUBLISH
X-PUBLISHED-TTL:P3D
REFRESH-INTERVAL:P3D
CALSCALE:GREGORIAN
BEGIN:VEVENT
DTSTART:20180529T210000Z
DTEND:20180530T000000Z
X-MICROSOFT-CDO-ALLDAYEVENT:FALSE
SUMMARY:Fisher Cats Ballpark Business Series Mixer
DESCRIPTION:Register now for the Fisher Cats Ballpark Business Series Mixer on Tuesday\, May 29.  Tickets are complimentary for chamber members and your guests making it a great opportunity to host colleagues\, friends or family at a game and see the future Red Sox\, the Portland Sea Dogs\, take on the future Blue Jays! \n \n\nEnjoy free hot dogs\, raffles\, tours and drink specials in the Samuel Adams Brewhouse starting at 5:00 p.m.  The game's first pitch is at 6:35.   Get your tickets by copying and pasting this link into your browser!:\n\n https://events.r20.constantcontact.com/register/eventReg?oeidk=a07ef6yfu8c37527f92&oseq=&c=&ch=
X-ALT-DESC;FMTTYPE=text/html:<i><span style="font-size: 10.5pt\; font-family: Calibri\, sans-serif\;">Register now for the Fisher Cats Ballpark Business Series Mixer on Tuesday\, May 29. &nbsp\;Tickets are complimentary for chamber members and your guests making it a great&nbsp\;opportunity&nbsp\;to host colleagues\, friends or family at a game and see the future Red Sox\, the Portland Sea Dogs\, take on the future Blue Jays!&nbsp\;</span></i>\n<div>&nbsp\;</div>\n\n<div><i><span style="font-size: 10.5pt\; font-family: Calibri\, sans-serif\;">Enjoy free hot dogs\, raffles\, tours and drink specials in the Samuel Adams Brewhouse starting at 5:00 p.m. &nbsp\;The game&rsquo\;s first pitch is at 6:35. &nbsp\; Get your tickets by copying and pasting this link into your browser!:<br />\n&nbsp\;</span></i><span style="font-size:20px\;"><u><strong>https://events.r20.constantcontact.com/register/eventReg?oeidk=a07ef6yfu8c37527f92&amp\;oseq=&amp\;c=&amp\;ch=</strong></u></span></div>\n
LOCATION:Samuel Adams Brewhouse at Northeast Delta Dental Stadium at 1 Line Drive\, Manchester
UID:e.2735.3538
SEQUENCE:3
DTSTAMP:20260419T175850Z
URL:http://members.gmsvcc.org/events/details/fisher-cats-ballpark-business-series-mixer-3538
END:VEVENT

END:VCALENDAR
