BEGIN:VCALENDAR
VERSION:2.0
PRODID:-//ChamberMaster//Event Calendar 2.0//EN
METHOD:PUBLISH
X-PUBLISHED-TTL:P3D
REFRESH-INTERVAL:P3D
CALSCALE:GREGORIAN
BEGIN:VEVENT
DTSTART:20161021T230000Z
DTEND:20161022T003000Z
X-MICROSOFT-CDO-ALLDAYEVENT:FALSE
SUMMARY:Farm to Table Dinner at Bookside Cafe/Toadstool Bookshop
DESCRIPTION:PRIX FIXE DINNERFRIDAY\, OCTOBER 21at 7PM\n\n 4Course Meal includes non-alcoholic beverages (BYOB)\, tax & gratuity \n\n\n\nRESERVATIONS REQUIRED $50 Per Person \n\nCall 673-1734 or Email to Caf @mtoad.com\n\nPAIRED BEER & WINE at BARLEY & HOPS \n\n20% off After-Dinner-Shopping in the Toadstool Bookshop
X-ALT-DESC;FMTTYPE=text/html:PRIX FIXE DINNERFRIDAY\, OCTOBER&nbsp\;21at 7PM<br />\n&#8203\;4Course Meal includes&nbsp\;non-alcoholic beverages (BYOB)\, tax &amp\; gratuity&nbsp\;<br />\n<br />\nRESERVATIONS&nbsp\;REQUIRED $50&nbsp\;Per Person&nbsp\;<br />\nCall 673-1734 or Email to Caf&eacute\;@mtoad.com<br />\nPAIRED BEER &amp\; WINE at&nbsp\;BARLEY &amp\; HOPS&nbsp\;<br />\n20% off After-Dinner-Shopping in the&nbsp\;Toadstool Bookshop
LOCATION:614 Nashua Street Milford NH 03055
UID:e.2735.610
SEQUENCE:3
DTSTAMP:20260420T225503Z
URL:http://members.gmsvcc.org/events/details/farm-to-table-dinner-at-bookside-cafe-toadstool-bookshop-610
END:VEVENT

END:VCALENDAR
