BEGIN:VCALENDAR
VERSION:2.0
PRODID:-//ChamberMaster//Event Calendar 2.0//EN
METHOD:PUBLISH
X-PUBLISHED-TTL:P3D
REFRESH-INTERVAL:P3D
CALSCALE:GREGORIAN
BEGIN:VEVENT
DTSTART:20180326T200000Z
DTEND:20180326T210000Z
X-MICROSOFT-CDO-ALLDAYEVENT:FALSE
SUMMARY:Executive Committee Meeting
DESCRIPTION:Executive Committee Monthly Meeting
X-ALT-DESC;FMTTYPE=text/html:Executive Committee Monthly Meeting
LOCATION:SVCC Office
UID:e.2735.659
SEQUENCE:3
DTSTAMP:20260419T210538Z
URL:http://members.gmsvcc.org/events/details/executive-committee-meeting-03-27-2018-659
END:VEVENT

END:VCALENDAR
