BEGIN:VCALENDAR
VERSION:2.0
PRODID:-//ChamberMaster//Event Calendar 2.0//EN
METHOD:PUBLISH
X-PUBLISHED-TTL:P3D
REFRESH-INTERVAL:P3D
CALSCALE:GREGORIAN
BEGIN:VEVENT
DTSTART:20180307T133000Z
DTEND:20180307T153000Z
X-MICROSOFT-CDO-ALLDAYEVENT:FALSE
SUMMARY:Essentials for Businesses For Success : What Every Small Business Owner Needs to Know
DESCRIPTION:The Souhegan Valley Chamber of Commerce presents\n\n \n\n Essentials for Businesses For Success  \n\n   What Every Small Business Owner Needs to Know\n\n \n\nA business advisor\, lawyer and insurance agent answer essential business questions!\n\n \n\nFeaturing professional guest speakers: \n\n	Amy Rodman\, Business Advisor with the  Southern NH Small Business Development Center (SBDC)\n	 Elizabeth Brown\, Attorney\,Sowerby Law Office\, PLLC\n	  Nicki Renaud\, Commercial Risk Control Specialist\, HPM Insurance\n	Claudia Trethewey\, Commercial Marketing Coordinator\,  HPM Insurance\n\nSection One: What the SBDC can do for you and your business\n\nResources for Small Businesses presented by Amy Rodman of NH SBDC.\n\n \n\nTopics will include:  \n\nWho we are\, What we do\, and How can Small Businesses take advantage of our services.  \n\n\n\n\n\nSection Two: Legal considerations for Small Business\n\nPresented by Liz Brown\, Attorney\, of Sowerby Law Office\n\n\n\n Topics will include:  \n\n\n\n Legal considerations for Small Business\, Choice of Entity\, Formation - Nuts and Bolts of forming an entity\; After Formation\;Partnership Agreements\;Operating Agreements\; Succession planning\; Contracts that New businesses might need. \n\n\n\nSection Three: Insurance Information for Small businesses\n\nPresented by Nicki Renaud and Claudia Trethewey: of HPM Insurance\n\n\n\nTopics will include:\n\nWorking out of your home\; Conducting business on line\; Workers compensation vs. subcontractors\;Commercial insurance basics\; What is professional liability\;What is cyber liability\;Clarifying what an umbrella is (and isn't)\;  Commercial auto\n\n\n\nSection 4: Q & A with the experts!
X-ALT-DESC;FMTTYPE=text/html:<span style="font-size:14px\;"><strong>The Souhegan Valley Chamber of Commerce presents</strong></span><br />\n&nbsp\;<br />\n<span style="font-size:16px\;"><strong><u>&nbsp\;Essentials for Businesses For Success</u></strong> &nbsp\;</span><br />\n<strong><em>&nbsp\; &nbsp\;What Every Small Business Owner Needs to Know</em></strong><br />\n&nbsp\;<br />\n<strong>A business advisor\, lawyer and insurance agent answer essential business questions!</strong><br />\n&nbsp\;<br />\n<strong>Featuring professional guest speakers:&nbsp\;</strong>\n<ul>\n	<li><strong>Amy Rodman\, Business Advisor with the&nbsp\;&nbsp\;Southern NH Small Business Development Center (SBDC)</strong></li>\n	<li><strong><strong>&nbsp\;Elizabeth Brown\, Attorney\,Sowerby Law Office\, PLLC</strong></strong></li>\n	<li><strong><strong>&nbsp\;&#8203\;<strong>Nicki</strong><strong> Renaud\, Commercial Risk Control Specialist\,&nbsp\;HPM </strong><strong>Insurance</strong></strong></strong></li>\n	<li><strong>Claudia</strong><strong> Trethewey\,&nbsp\;Commercial&nbsp\;Marketing Coordinator\,<strong style="color: rgb(51\, 51\, 51)\; font-family: sans-serif\, Arial\, Verdana\, &quot\;Trebuchet MS&quot\;\; font-size: 13px\; background-color: rgb(255\, 255\, 255)\;">&nbsp\; HPM&nbsp\;Insurance</strong></strong></li>\n</ul>\n<strong><span style="font-size:16px\;"><u>Section One: What the SBDC can do for you and your business</u></span></strong><br />\n<strong>Resources for Small Businesses presented by Amy Rodman of NH SBDC</strong>.<br />\n&nbsp\;<br />\nTopics will include: &nbsp\;<br />\n<span style="font-family:calibri\,sans-serif\;"><span style="font-size:11.0pt\;">Who we are\, What we do\, and How can Small Businesses take advantage of our services.&nbsp\;&nbsp\;</span></span><br />\n<br />\n<br />\n<span style="font-size:16px\;"><strong><u>Section Two: Legal considerations for Small Business</u></strong></span><br />\n<strong>Presented by Liz Brown\, Attorney\, of Sowerby Law Office</strong><br />\n<br />\n&nbsp\;Topics will include:&nbsp\;&nbsp\;<br />\n<br />\n&nbsp\;<a name="_Hlk504653960">Legal considerations for Small Business\,&nbsp\;</a>Choice of Entity\, Formation - Nuts and Bolts of forming an entity\; After Formation\;Partnership Agreements\;Operating Agreements\; Succession planning\; Contracts that New businesses might need.&nbsp\;<br />\n<br />\n<span style="font-size:16px\;"><strong>Section Three: Insurance Information for Small businesses</strong></span><br />\n<strong>Presented by<u> </u><strong>Nicki Renaud and Claudia Trethewey: of HPM Insuran</strong>ce</strong><br />\n<br />\nTopics will include:<br />\nWorking out of your home\; Conducting business on line\; Workers compensation vs. subcontractors\;Commercial insurance basics\; What is professional liability\;What is cyber liability\;Clarifying what an umbrella is (and isn&rsquo\;t)\;&nbsp\; Commercial auto<br />\n<br />\n<span style="font-size:16px\;"><u><strong>Section 4: Q &amp\; A with the experts!</strong></u></span><br />\n&nbsp\;
LOCATION:Souhegan Valley Chamber of Commerce 69 Route 101A Amherst\,NH 03031
UID:e.2735.3098
SEQUENCE:3
DTSTAMP:20260419T211132Z
URL:http://members.gmsvcc.org/events/details/essentials-for-businesses-for-success-what-every-small-business-owner-needs-to-know-3098
END:VEVENT

END:VCALENDAR
