BEGIN:VCALENDAR
VERSION:2.0
PRODID:-//ChamberMaster//Event Calendar 2.0//EN
METHOD:PUBLISH
X-PUBLISHED-TTL:P3D
REFRESH-INTERVAL:P3D
CALSCALE:GREGORIAN
BEGIN:VEVENT
DTSTART:20170409T140000Z
DTEND:20170409T200000Z
X-MICROSOFT-CDO-ALLDAYEVENT:FALSE
SUMMARY:Equine Stifle Clinic
DESCRIPTION:Learn how to keep your horse's stifle strong in this 1-day clinic. Call 465-4444 today to register!
X-ALT-DESC;FMTTYPE=text/html:Learn how to keep your horse&#39\;s stifle strong in this 1-day clinic. Call 465-4444 today to register!
LOCATION:288 S. Merrimack Rd\, Hollis\, NH 03049
UID:e.2735.1799
SEQUENCE:3
DTSTAMP:20260420T153804Z
URL:http://members.gmsvcc.org/events/details/equine-stifle-clinic-04-09-2017-1799
END:VEVENT

END:VCALENDAR
