BEGIN:VCALENDAR
VERSION:2.0
PRODID:-//ChamberMaster//Event Calendar 2.0//EN
METHOD:PUBLISH
X-PUBLISHED-TTL:P3D
REFRESH-INTERVAL:P3D
CALSCALE:GREGORIAN
BEGIN:VEVENT
DTSTART:20170507T140000Z
DTEND:20170507T200000Z
X-MICROSOFT-CDO-ALLDAYEVENT:FALSE
SUMMARY:Equine SPINAL Clinic
DESCRIPTION:Learn how to keep your horse's spine strong in this 1-day clinic. Call 465-4444 today to register!
X-ALT-DESC;FMTTYPE=text/html:Learn how to keep your horse&#39\;s spine strong in this 1-day clinic. Call 465-4444 today to register!
LOCATION:288 S. Merrimack Rd\, Hollis\, NH 03049
UID:e.2735.1800
SEQUENCE:3
DTSTAMP:20260420T123153Z
URL:http://members.gmsvcc.org/events/details/equine-spinal-clinic-1800
END:VEVENT

END:VCALENDAR
