BEGIN:VCALENDAR
VERSION:2.0
PRODID:-//ChamberMaster//Event Calendar 2.0//EN
METHOD:PUBLISH
X-PUBLISHED-TTL:P3D
REFRESH-INTERVAL:P3D
CALSCALE:GREGORIAN
BEGIN:VEVENT
DTSTART:20171130T000000Z
DTEND:20171130T013000Z
X-MICROSOFT-CDO-ALLDAYEVENT:FALSE
SUMMARY:Equine Dentistry
DESCRIPTION:FREE EVENING SEMINAR: Leah Limone\, DVM\, will provide an overview of equine dental care. We will discuss the importance of dental preventative care and how this is provided\, as well as review commonly seen oral pathology and how this is diagnosed and treated.
X-ALT-DESC;FMTTYPE=text/html:FREE EVENING SEMINAR: Leah Limone\, DVM\, will provide an overview of equine dental care. We will discuss the importance of dental preventative care and how this is provided\, as well as review commonly seen oral pathology and how this is diagnosed and treated.
LOCATION:Horse 'n Hound PT 288 S.Merrimack Rd\, Hollis\, NH
UID:e.2735.3067
SEQUENCE:3
DTSTAMP:20260420T025602Z
URL:http://members.gmsvcc.org/events/details/equine-dentistry-3067
END:VEVENT

END:VCALENDAR
