BEGIN:VCALENDAR
VERSION:2.0
PRODID:-//ChamberMaster//Event Calendar 2.0//EN
METHOD:PUBLISH
X-PUBLISHED-TTL:P3D
REFRESH-INTERVAL:P3D
CALSCALE:GREGORIAN
BEGIN:VEVENT
DTSTART:20170202T220000Z
DTEND:20170202T233000Z
X-MICROSOFT-CDO-ALLDAYEVENT:FALSE
SUMMARY:ELDER LAW ESSENTIALS\, Presentation on Estate Planning\, Probate\, Guardianship.
DESCRIPTION:Join us as David Craig takes us through estate planning\, probate administration\, guardianship\, and so much more.\n\nAttorney Craig is the principal of David R. Craig & Associates\, a small firm Trusts & Estates law practice in New Boston\, New Hampshire. He has been formally board certified in Elder Law by the National Elder Law Foundation since 2005.
X-ALT-DESC;FMTTYPE=text/html:Join us as David Craig takes us through estate planning\, probate administration\, guardianship\, and so much more.<br />\nAttorney Craig is the principal of David R. Craig &amp\; Associates\, a small firm Trusts &amp\; Estates law practice in New Boston\, New Hampshire. He has been formally board certified in Elder Law by the National Elder Law Foundation since 2005.
LOCATION:Ledgewood Bay Senior Living 43 Ledgewood Drive Milford NH 03055
UID:e.2735.644
SEQUENCE:3
DTSTAMP:20260420T171018Z
URL:http://members.gmsvcc.org/events/details/elder-law-essentials-presentation-on-estate-planning-probate-guardianship-644
END:VEVENT

END:VCALENDAR
