BEGIN:VCALENDAR
VERSION:2.0
PRODID:-//ChamberMaster//Event Calendar 2.0//EN
METHOD:PUBLISH
X-PUBLISHED-TTL:P3D
REFRESH-INTERVAL:P3D
CALSCALE:GREGORIAN
BEGIN:VEVENT
DTSTART:20180724T123000Z
DTEND:20180724T133000Z
X-MICROSOFT-CDO-ALLDAYEVENT:FALSE
SUMMARY:Education Committee
DESCRIPTION:About the committee:\n\nThe mission of the SVCC Educational Committee is to provide vital information on various topics to our Chamber members to educate them and help them grow their businesses. We strive to ensure that the program is engaging and interactive so as to encourage members to attend more events in the future.
X-ALT-DESC;FMTTYPE=text/html:About the committee:<br />\n<i style="border: 0px\; margin: 0px\; padding: 0px\; color: rgb(0\, 0\, 0)\; font-family: Arial\, Helvetica\, sans-serif\; font-size: 12px\;">The mission of the SVCC Educational Committee is to provide vital information on various topics to our Chamber members to educate them and help them grow their businesses. We strive to ensure that the program is engaging and interactive so as to encourage members to attend more events in the future.</i>
LOCATION:Chamber Office
UID:e.2735.3578
SEQUENCE:3
DTSTAMP:20260419T144739Z
URL:http://members.gmsvcc.org/events/details/education-committee-3578
END:VEVENT

END:VCALENDAR
