BEGIN:VCALENDAR
VERSION:2.0
PRODID:-//ChamberMaster//Event Calendar 2.0//EN
METHOD:PUBLISH
X-PUBLISHED-TTL:P3D
REFRESH-INTERVAL:P3D
CALSCALE:GREGORIAN
BEGIN:VEVENT
DTSTART:20170406T230000Z
DTEND:20170407T003000Z
X-MICROSOFT-CDO-ALLDAYEVENT:FALSE
SUMMARY:Edible Landscapes
DESCRIPTION:The Amherst Garden Club looks forward D. Emerson Quigley's presentation on "Edible Landscapes"! As the owner of King Street Vineyards\, located in neighboring Milford\, NH\, D. Emerson Quigley is passionate about his own backyard vineyard and orchard. He will talk with us about turning our own backyards\, no matter the size\, into "Edible Landscapes." King Street Vineyards is a nursery that helps home owners build and maintain their own vineyards or orchards\, or both!
X-ALT-DESC;FMTTYPE=text/html:The Amherst Garden Club looks forward D. Emerson Quigley&rsquo\;s presentation on &ldquo\;Edible Landscapes&rdquo\;! As the owner of King Street Vineyards\, located in neighboring Milford\, NH\, D. Emerson Quigley is passionate about his own backyard vineyard and orchard. He will talk with us about turning our own backyards\, no matter the size\, into &ldquo\;Edible Landscapes.&rdquo\; King Street Vineyards is a nursery that helps home owners build and maintain their own vineyards or orchards\, or both!
LOCATION:Parkhurst Place\, 11 Veterans Road\, Amherst\, NH.
UID:e.2735.792
SEQUENCE:3
DTSTAMP:20260420T140118Z
URL:http://members.gmsvcc.org/events/details/edible-landscapes-792
END:VEVENT

END:VCALENDAR
