BEGIN:VCALENDAR
VERSION:2.0
PRODID:-//ChamberMaster//Event Calendar 2.0//EN
METHOD:PUBLISH
X-PUBLISHED-TTL:P3D
REFRESH-INTERVAL:P3D
CALSCALE:GREGORIAN
BEGIN:VEVENT
DTSTART:20161112T143000Z
DTEND:20161112T163000Z
X-MICROSOFT-CDO-ALLDAYEVENT:FALSE
SUMMARY:Dyslexia and Other Learning Differences Diciphered
DESCRIPTION:Dyslexia\, dyscalculia\, ADD\, and ADHD are some of the labels we use to refer to people who are smart but stuck. Being smart but stuck may also mean that this student will perform well enough to fly under the radar of 'needs help'. In fact\, most of the people who experience programs at Creative Learning Solutions do not even have official 'labels' but they are frustrated\, feeling disappointed\, or even dumb. About this time of year\, they may be feeling the stress of falling behind in terms of academic workload\; their parents may soon be scheduling Parent - Teacher Conferences. For families experiencing any or all of the above\, there is a different path to success that is not like other traditional tutoring-based approaches. The Davis programs focus on giving students the tools to overcome the barriers associated with their learning difficulties in a way that utilize their inherent mental strengths. Creative Learning Solutions is hosting an information session geared toward goals in improving reading\, spelling\, focus\, and math
X-ALT-DESC;FMTTYPE=text/html:Dyslexia\, dyscalculia\, ADD\, and ADHD are some of the labels we use to refer to people who are smart but stuck. Being smart but stuck may also mean that this student will perform well enough to fly under the radar of &#39\;needs help&#39\;. In fact\, most of the people who experience programs at Creative Learning Solutions do not even have official &#39\;labels&#39\; but they are frustrated\, feeling disappointed\, or even dumb. About this time of year\, they may be feeling the stress of falling behind in terms of academic workload\; their parents may soon be scheduling Parent - Teacher Conferences. For families experiencing any or all of the above\, there is a different path to success that is not like other traditional tutoring-based approaches. The Davis programs focus on giving students the tools to overcome the barriers associated with their learning difficulties in a way that utilize their inherent mental strengths. Creative Learning Solutions is hosting an information session geared toward goals in improving reading\, spelling\, focus\, and math
LOCATION:Wadleigh Memorial Library\, Keyes Room 49 Nashua St. Milford\, NH
UID:e.2735.605
SEQUENCE:3
DTSTAMP:20260420T211641Z
URL:http://members.gmsvcc.org/events/details/dyslexia-and-other-learning-differences-diciphered-605
END:VEVENT

END:VCALENDAR
