BEGIN:VCALENDAR
VERSION:2.0
PRODID:-//ChamberMaster//Event Calendar 2.0//EN
METHOD:PUBLISH
X-PUBLISHED-TTL:P3D
REFRESH-INTERVAL:P3D
CALSCALE:GREGORIAN
BEGIN:VEVENT
DTSTART:20170920T213000Z
DTEND:20170920T233000Z
X-MICROSOFT-CDO-ALLDAYEVENT:FALSE
SUMMARY:Dual Chamber Business After Hours at Touchstone Farm with the Peterborough Chamber
DESCRIPTION:Touchstone Farm welcomes the Souhegan Valley Chamber and The Peterborough Chamber for a dual Business After Hours. Come network\, meet members from our neighboring chamber\, enjoy the views and refreshments!  Come learn about the wonderful programs Touchstone Farm runs. Maybe even a carriage ride on property.
X-ALT-DESC;FMTTYPE=text/html:<span style="color: rgb(51\, 51\, 51)\; font-family: sans-serif\, Arial\, Verdana\, &quot\;Trebuchet MS&quot\;\; font-size: 13px\; background-color: rgb(255\, 255\, 255)\;">Touchstone Farm welcomes the Souhegan Valley Chamber and&nbsp\;The Peterborough Chamber for a dual Business After Hours. Come network\, meet members from our neighboring chamber\, enjoy the views and refreshments!&nbsp\;&nbsp\;Come learn about the wonderful programs Touchstone Farm runs. Maybe even a carriage ride on property.&nbsp\;</span><br />\n&nbsp\;
LOCATION:Touchstone Farm\, 13 Pony Farm Lane\, Temple NH
UID:e.2735.2820
SEQUENCE:3
DTSTAMP:20260420T060852Z
URL:http://members.gmsvcc.org/events/details/dual-chamber-business-after-hours-at-touchstone-farm-with-the-peterborough-chamber-2820
END:VEVENT

END:VCALENDAR
