BEGIN:VCALENDAR
VERSION:2.0
PRODID:-//ChamberMaster//Event Calendar 2.0//EN
METHOD:PUBLISH
X-PUBLISHED-TTL:P3D
REFRESH-INTERVAL:P3D
CALSCALE:GREGORIAN
BEGIN:VEVENT
DTSTART:20180613T213000Z
DTEND:20180613T233000Z
X-MICROSOFT-CDO-ALLDAYEVENT:FALSE
SUMMARY:Dual Chamber Business After Hours at Eaton Berube with theNashua Chamber
DESCRIPTION:Eaton welcomes the Souhegan Valley Chamber and Nashua Chamber for a dual Business After Hours. Come network\, meet members from our neighboring chamber\, and  enjoy the  refreshments!
X-ALT-DESC;FMTTYPE=text/html:<span style="color: rgb(51\, 51\, 51)\; font-family: sans-serif\, Arial\, Verdana\, &quot\;Trebuchet MS&quot\;\; font-size: 13px\; background-color: rgb(255\, 255\, 255)\;">Eaton welcomes the Souhegan Valley Chamber and&nbsp\;Nashua Chamber for a dual Business After Hours. Come network\, meet members from our neighboring chamber\, and&nbsp\; enjoy the&nbsp\; refreshments!&nbsp\;&nbsp\;</span><br />\n&nbsp\;
LOCATION:Eaton Berube Insurance
UID:e.2735.3575
SEQUENCE:3
DTSTAMP:20260419T174633Z
URL:http://members.gmsvcc.org/events/details/dual-chamber-business-after-hours-at-eaton-berube-with-thenashua-chamber-3575
END:VEVENT

END:VCALENDAR
