BEGIN:VCALENDAR
VERSION:2.0
PRODID:-//ChamberMaster//Event Calendar 2.0//EN
METHOD:PUBLISH
X-PUBLISHED-TTL:P3D
REFRESH-INTERVAL:P3D
CALSCALE:GREGORIAN
BEGIN:VEVENT
DTSTART:20161013T220000Z
DTEND:20161014T010000Z
X-MICROSOFT-CDO-ALLDAYEVENT:FALSE
SUMMARY:Customer Appreciation Night at Robin's Egg
DESCRIPTION:Our 5th annual late-night celebration dedicated to our AMAZING customers! Spend an evening browsing the newest inventory while enjoying complimentary wine and sweets... and 20% off everything in the shop! Multiple door prizes given away throughout the evening! This event is a "fan favorite!" Don't miss it!
X-ALT-DESC;FMTTYPE=text/html:Our 5th annual late-night celebration dedicated to our AMAZING customers! Spend an evening browsing the newest inventory while enjoying complimentary wine and sweets... and 20% off everything in the shop! Multiple door prizes given away throughout the evening! This event is a &quot\;fan favorite!&quot\; Don&#39\;t miss it!
LOCATION:326 Nashua Street Milford\, NH 03055
UID:e.2735.584
SEQUENCE:3
DTSTAMP:20260421T002700Z
URL:http://members.gmsvcc.org/events/details/customer-appreciation-night-at-robin-s-egg-10-13-2016-584
END:VEVENT

END:VCALENDAR
