BEGIN:VCALENDAR
VERSION:2.0
PRODID:-//ChamberMaster//Event Calendar 2.0//EN
METHOD:PUBLISH
X-PUBLISHED-TTL:P3D
REFRESH-INTERVAL:P3D
CALSCALE:GREGORIAN
BEGIN:VEVENT
DTSTART:20170204T170000Z
DTEND:20170204T210000Z
X-MICROSOFT-CDO-ALLDAYEVENT:FALSE
SUMMARY:Craft Beer Super Sampler
DESCRIPTION:Join us for samples from some great local breweries as well as game day foods!
X-ALT-DESC;FMTTYPE=text/html:Join us for samples from some great local breweries as well as game day foods!
LOCATION:The Flying Butcher 124 State route 101a Amherst NH
UID:e.2735.623
SEQUENCE:3
DTSTAMP:20260420T181833Z
URL:http://members.gmsvcc.org/events/details/craft-beer-super-sampler-623
END:VEVENT

END:VCALENDAR
