BEGIN:VCALENDAR
VERSION:2.0
PRODID:-//ChamberMaster//Event Calendar 2.0//EN
METHOD:PUBLISH
X-PUBLISHED-TTL:P3D
REFRESH-INTERVAL:P3D
CALSCALE:GREGORIAN
BEGIN:VEVENT
DTSTART:20170315T203000Z
DTEND:20170315T233000Z
X-MICROSOFT-CDO-ALLDAYEVENT:FALSE
SUMMARY:Co-host Registration Small Business After Hours
DESCRIPTION:If you are a home-based or small business with limited space\, this is your opportunity to host an BAH & promote your business. Each co-host will have an opportunity to talk about your business and 6' table to display promotional materials. Limit to 20 businesses\, first come/first serve. $25 fee (offset food/drinks).
X-ALT-DESC;FMTTYPE=text/html:<span style="font-family: Arial\, Helvetica\, sans-serif\; font-size: 13.3333px\; background-color: rgb(255\, 255\, 255)\;">If you are a home-based or small business with limited space\, this is your opportunity to host an BAH &amp\; promote your business. Each co-host will have an opportunity to talk about your business and 6&#39\; table to display promotional materials. Limit to 20 businesses\, first come/first serve. $25 fee (offset food/drinks).</span>
LOCATION:Hampshire Hills Sports & Fitness 50 Emerson Road Milford NH 03055
UID:e.2735.641
SEQUENCE:3
DTSTAMP:20260420T153646Z
URL:http://members.gmsvcc.org/events/details/co-host-registration-small-business-after-hours-641
END:VEVENT

END:VCALENDAR
