BEGIN:VCALENDAR
VERSION:2.0
PRODID:-//ChamberMaster//Event Calendar 2.0//EN
METHOD:PUBLISH
X-PUBLISHED-TTL:P3D
REFRESH-INTERVAL:P3D
CALSCALE:GREGORIAN
BEGIN:VEVENT
DTSTART:20171216T150000Z
DTEND:20171216T200000Z
X-MICROSOFT-CDO-ALLDAYEVENT:FALSE
SUMMARY:Christmas in Amherst Village House Tour
DESCRIPTION:This classic tour returns to Amherst Village on Saturday\, December 16\, 2017 with more historic houses beautifully decorated for the holidays. All funds raised go towards the maintenance of the 1771 meetinghouse on the green. www.ccamherst.org/cav/ www.facebook.com/CAVNH/
X-ALT-DESC;FMTTYPE=text/html:This classic tour returns to Amherst Village on Saturday\, December 16\, 2017 with more historic houses beautifully decorated for the holidays. All funds raised go towards the maintenance of the 1771 meetinghouse on the green. www.ccamherst.org/cav/ www.facebook.com/CAVNH/
LOCATION:Amherst Village 11 Church Street Amherst\, NH 03031
UID:e.2735.3062
SEQUENCE:3
DTSTAMP:20260420T013650Z
URL:http://members.gmsvcc.org/events/details/christmas-in-amherst-village-house-tour-3062
END:VEVENT

END:VCALENDAR
