BEGIN:VCALENDAR
VERSION:2.0
PRODID:-//ChamberMaster//Event Calendar 2.0//EN
METHOD:PUBLISH
X-PUBLISHED-TTL:P3D
REFRESH-INTERVAL:P3D
CALSCALE:GREGORIAN
BEGIN:VEVENT
DTSTART:20171224T233000Z
DTEND:20171225T003000Z
X-MICROSOFT-CDO-ALLDAYEVENT:FALSE
SUMMARY:Christmas Eve on the Milford Oval
DESCRIPTION:Celebrate Christmas with Traditional Open Air Caroling! Why not pause for a moment\, step aside from the frenzy\, and do something traditional this year? Bring your family to the Milford Oval on Christmas Eve to join with your friends and neighbors for a traditional\, outdoor Christmas Carol service. Make this Christmas one that your family will always remember as we recall its true meaning amidst the glimmer of lights and the sound of voices on the historic Milford Oval. The Festival of Nine Lessons & Carols was first held on Christmas Eve 1918 in London\, England\, celebrating the end of the 'Great War.' It has remained and is virtually unchanged these past 99 years! Complimentary hot drinks and refreshments will be served for both young and old to help fend off the New England weather!
X-ALT-DESC;FMTTYPE=text/html:Celebrate Christmas with Traditional Open Air Caroling! Why not pause for a moment\, step aside from the frenzy\, and do something traditional this year? Bring your family to the Milford Oval on Christmas Eve to join with your friends and neighbors for a traditional\, outdoor Christmas Carol service. Make this Christmas one that your family will always remember as we recall its true meaning amidst the glimmer of lights and the sound of voices on the historic Milford Oval. The Festival of Nine Lessons &amp\; Carols was first held on Christmas Eve 1918 in London\, England\, celebrating the end of the &lsquo\;Great War.&rsquo\; It has remained and is virtually unchanged these past 99 years! Complimentary hot drinks and refreshments will be served for both young and old to help fend off the New England weather!
LOCATION:Milford Bandstand ("Oval") Union Square Milford\, NH 03055
UID:e.2735.3070
SEQUENCE:3
DTSTAMP:20260420T030234Z
URL:http://members.gmsvcc.org/events/details/christmas-eve-on-the-milford-oval-3070
END:VEVENT

END:VCALENDAR
