BEGIN:VCALENDAR
VERSION:2.0
PRODID:-//ChamberMaster//Event Calendar 2.0//EN
METHOD:PUBLISH
X-PUBLISHED-TTL:P3D
REFRESH-INTERVAL:P3D
CALSCALE:GREGORIAN
BEGIN:VEVENT
DTSTART;VALUE=DATE:20180720
DTEND;VALUE=DATE:20180721
TRANSP:TRANSPARENT
X-MICROSOFT-CDO-ALLDAYEVENT:TRUE
SUMMARY:Chamber office closing at 11 am today
DESCRIPTION:Clsoing at 11 am today for off-site professional development training
X-ALT-DESC;FMTTYPE=text/html:Clsoing at 11 am today for off-site professional development training
LOCATION:
UID:e.2735.3585
SEQUENCE:3
DTSTAMP:20260419T145639Z
URL:http://members.gmsvcc.org/events/details/chamber-office-closing-at-11-am-today-3585
END:VEVENT

END:VCALENDAR
