BEGIN:VCALENDAR
VERSION:2.0
PRODID:-//ChamberMaster//Event Calendar 2.0//EN
METHOD:PUBLISH
X-PUBLISHED-TTL:P3D
REFRESH-INTERVAL:P3D
CALSCALE:GREGORIAN
BEGIN:VEVENT
DTSTART:20171122T170000Z
DTEND:20171124T220000Z
X-MICROSOFT-CDO-ALLDAYEVENT:FALSE
SUMMARY:Chamber Office Closed for Thanksgiving holidays
DESCRIPTION:
X-ALT-DESC;FMTTYPE=text/html:
LOCATION:
UID:e.2735.3064
SEQUENCE:3
DTSTAMP:20260420T041939Z
URL:http://members.gmsvcc.org/events/details/chamber-office-closed-for-thanksgiving-holidays-3064
END:VEVENT

END:VCALENDAR
