BEGIN:VCALENDAR
VERSION:2.0
PRODID:-//ChamberMaster//Event Calendar 2.0//EN
METHOD:PUBLISH
X-PUBLISHED-TTL:P3D
REFRESH-INTERVAL:P3D
CALSCALE:GREGORIAN
BEGIN:VEVENT
DTSTART:20180426T213000Z
DTEND:20180426T223000Z
X-MICROSOFT-CDO-ALLDAYEVENT:FALSE
SUMMARY:Chamber Night at LaBelle Winery
DESCRIPTION:New in  2018\, every 4th Thursday of the month will be Souhegan Valley  Chamber of Commerce  Member Night at LaBelle Winery in Amherst!\n\n\n\nExclusively for SVCC members\, LaBelle Winery will host  a happy hour  from 5:30 to 6:30 pm\,   offering members hors d'oevures\, a complimentary glass of wine\, music\, and a beautiful location to come mingle with your fellow Chamber members!\n\n\n\nBut that's not all! Stay after the Chamber Happy Hour for LaBelle's Family  and Friends Dining Program:  and meet family and friends for 50% off wine by the glass or bottle\, Specials for adults and kids\, an a community cheese board!
X-ALT-DESC;FMTTYPE=text/html:New in&nbsp\; 2018\, every 4th Thursday of the month will be Souhegan Valley&nbsp\; Chamber of Commerce&nbsp\; Member Night at LaBelle Winery in Amherst!<br />\n<br />\nExclusively for SVCC members\, LaBelle&nbsp\;Winery will host&nbsp\; a happy hour&nbsp\; from 5:30 to 6:30 pm\,&nbsp\; &nbsp\;offering members hors d&#39\;oevures\, a complimentary glass of wine\, music\, and a beautiful location to come mingle with your fellow Chamber members!<br />\n<br />\nBut that&#39\;s not all! Stay after&nbsp\;the Chamber Happy Hour for LaBelle&#39\;s&nbsp\;Family&nbsp\; and Friends Dining Program:&nbsp\; and meet family and friends for 50% off wine by the glass or bottle\, Specials for adults and kids\, an a community cheese board!
LOCATION:LaBelle Winery 345 Route 101\, Amherst\, NH 03031
UID:e.2735.3541
SEQUENCE:3
DTSTAMP:20260419T193439Z
URL:http://members.gmsvcc.org/events/details/chamber-night-at-labelle-winery-3541
END:VEVENT

END:VCALENDAR
