BEGIN:VCALENDAR
VERSION:2.0
PRODID:-//ChamberMaster//Event Calendar 2.0//EN
METHOD:PUBLISH
X-PUBLISHED-TTL:P3D
REFRESH-INTERVAL:P3D
CALSCALE:GREGORIAN
BEGIN:VEVENT
DTSTART:20160913T123000Z
DTEND:20160913T133000Z
X-MICROSOFT-CDO-ALLDAYEVENT:FALSE
SUMMARY:Chamber Connections Open House & Facebook Seminar
DESCRIPTION:Using Facebook to create an online presence can be an overwhelming task.  Free SVCC member seminar on how to create an effective Facebook presence for your business. Presented by eCommerce Manager Rebecca Thomas\, Triangle Credit Union. Learn:\n\n - Online Advertising and Campaigns\n\n - Best Practices for Policies & Protection\n - Insights and Analytics
X-ALT-DESC;FMTTYPE=text/html:<div style="color: rgb(0\, 0\, 0)\; font-family: Arial\, Helvetica\, sans-serif\; font-size: 14.6667px\; line-height: normal\;">Using Facebook to create an online presence can be an overwhelming task. &nbsp\;F<span style="font-size: 11pt\;">ree SVCC member seminar on how to create an effective Facebook presence for your business. Presented by&nbsp\;</span><span style="font-size: 11pt\;">eCommerce Manager Rebecca Thomas\, Triangle Credit Union. Learn:</span></div>\n\n<div style="color: rgb(0\, 0\, 0)\; font-family: Arial\, Helvetica\, sans-serif\; font-size: 14.6667px\; line-height: normal\;"><span style="font-size: 11pt\;">&nbsp\;- Online Advertising&nbsp\;</span><span style="font-size: 11pt\;">and Campaigns</span></div>\n\n<div style="color: rgb(0\, 0\, 0)\; font-family: Arial\, Helvetica\, sans-serif\; font-size: 14.6667px\; line-height: normal\;">&nbsp\;- Best Practices for Policies &amp\; Protection</div>\n<span style="color: rgb(0\, 0\, 0)\; font-family: Arial\, Helvetica\, sans-serif\; font-size: 14.6667px\; line-height: normal\;">&nbsp\;- Insights and Analytics</span>
LOCATION:SVCC Office\, 69 Route 101A\, Amherst NH 03031
UID:e.2735.594
SEQUENCE:3
DTSTAMP:20260421T002835Z
URL:http://members.gmsvcc.org/events/details/chamber-connections-open-house-facebook-seminar-594
END:VEVENT

END:VCALENDAR
