BEGIN:VCALENDAR
VERSION:2.0
PRODID:-//ChamberMaster//Event Calendar 2.0//EN
METHOD:PUBLISH
X-PUBLISHED-TTL:P3D
REFRESH-INTERVAL:P3D
CALSCALE:GREGORIAN
BEGIN:VEVENT
DTSTART:20171025T110000Z
DTEND:20171025T123000Z
X-MICROSOFT-CDO-ALLDAYEVENT:FALSE
SUMMARY:Business Before Hours: Souhegan Speakers and Leadership Club Open House
DESCRIPTION:The Souhegan Speakers and Leadership Club welcomes SVCC Chamber members toa special Chamber members only Open House event! Learn how Taostmasters can help your business!
X-ALT-DESC;FMTTYPE=text/html:The Souhegan&nbsp\;Speakers and Leadership Club welcomes SVCC Chamber members toa special Chamber members only Open House event! Learn how Taostmasters can help your business!
LOCATION:At the Chamber Office\, 69 Route 101A Amherst
UID:e.2735.3046
SEQUENCE:3
DTSTAMP:20260420T042226Z
URL:http://members.gmsvcc.org/events/details/business-before-hours-souhegan-speakers-and-leadership-club-open-house-3046
END:VEVENT

END:VCALENDAR
