BEGIN:VCALENDAR
VERSION:2.0
PRODID:-//ChamberMaster//Event Calendar 2.0//EN
METHOD:PUBLISH
X-PUBLISHED-TTL:P3D
REFRESH-INTERVAL:P3D
CALSCALE:GREGORIAN
BEGIN:VEVENT
DTSTART:20171018T213000Z
DTEND:20171018T233000Z
X-MICROSOFT-CDO-ALLDAYEVENT:FALSE
SUMMARY:Business After Hours-Zaharias Real Estate
DESCRIPTION:Zaharias Real Estate welcomes the Souhegan Valley Chamber of Commerce for a Fall Business After Hours. Come socialize and network with fellow chamber members\, and of course\, come enjoy the  refreshments!
X-ALT-DESC;FMTTYPE=text/html:<span style="color: rgb(51\, 51\, 51)\; font-family: sans-serif\, Arial\, Verdana\, &quot\;Trebuchet MS&quot\;\; font-size: 13px\; background-color: rgb(255\, 255\, 255)\;">Zaharias Real Estate welcomes the Souhegan Valley Chamber of Commerce for a Fall Business After Hours. Come socialize and network with fellow chamber members\, and of course\, come enjoy the&nbsp\; refreshments!&nbsp\;&nbsp\;</span>
LOCATION:1 Truell Rd. Amherst\, NH 03031
UID:e.2735.2822
SEQUENCE:3
DTSTAMP:20260420T042129Z
URL:http://members.gmsvcc.org/events/details/business-after-hours-zaharias-real-estate-2822
END:VEVENT

END:VCALENDAR
