BEGIN:VCALENDAR
VERSION:2.0
PRODID:-//ChamberMaster//Event Calendar 2.0//EN
METHOD:PUBLISH
X-PUBLISHED-TTL:P3D
REFRESH-INTERVAL:P3D
CALSCALE:GREGORIAN
BEGIN:VEVENT
DTSTART:20160817T213000Z
DTEND:20160817T233000Z
X-MICROSOFT-CDO-ALLDAYEVENT:FALSE
SUMMARY:Business After Hours - Member Appreciation BBQ at SVCC
DESCRIPTION:Join us for an End of Summer Picnic and Member Appreciation BBQ hosted by the SVCC Ambassadors. Hot dog bar\, pulled pork and great homemade food\, networking and conversation! Enjoy some laid back down time with us!
X-ALT-DESC;FMTTYPE=text/html:<p style="font-stretch: normal\; font-size: 15px\; font-family: &quot\;Helvetica Neue&quot\;\, Helvetica\, Arial\, sans-serif\; line-height: 24.375px\; margin-bottom: 0.6em\;">Join us for an&nbsp\;<strong style="color: inherit\; font-stretch: normal\; font-style: inherit\; line-height: 1.625\;">End of Summer Picnic and Member Appreciation BBQ&nbsp\;</strong>hosted by the SVCC Ambassadors. Hot dog bar\, pulled pork and great homemade food\, networking and conversation! Enjoy some laid back down time with us!&nbsp\;</p>\n\n<p style="font-stretch: normal\; font-size: 15px\; font-family: &quot\;Helvetica Neue&quot\;\, Helvetica\, Arial\, sans-serif\; line-height: 24.375px\; margin-bottom: 0.6em\;">&nbsp\;</p>\n
LOCATION:SVCC\, 69 Route 101A\, Amherst (same building as Granite Bank - around the back of the building).
UID:e.2735.270
SEQUENCE:3
DTSTAMP:20260421T021024Z
URL:http://members.gmsvcc.org/events/details/business-after-hours-member-appreciation-bbq-at-svcc-08-17-2016-270
END:VEVENT

END:VCALENDAR
