BEGIN:VCALENDAR
VERSION:2.0
PRODID:-//ChamberMaster//Event Calendar 2.0//EN
METHOD:PUBLISH
X-PUBLISHED-TTL:P3D
REFRESH-INTERVAL:P3D
CALSCALE:GREGORIAN
BEGIN:VEVENT
DTSTART:20180221T223000Z
DTEND:20180222T003000Z
X-MICROSOFT-CDO-ALLDAYEVENT:FALSE
SUMMARY:Business After Hours at Triangle Credit Union
DESCRIPTION:Business After Hours at Triangle Credit Union
X-ALT-DESC;FMTTYPE=text/html:Business After Hours at Triangle Credit Union
LOCATION:138 Route 101A\, Amherst NH
UID:e.2735.3084
SEQUENCE:3
DTSTAMP:20260419T222617Z
URL:http://members.gmsvcc.org/events/details/business-after-hours-at-triangle-credit-union-3084
END:VEVENT

END:VCALENDAR
