BEGIN:VCALENDAR
VERSION:2.0
PRODID:-//ChamberMaster//Event Calendar 2.0//EN
METHOD:PUBLISH
X-PUBLISHED-TTL:P3D
REFRESH-INTERVAL:P3D
CALSCALE:GREGORIAN
BEGIN:VEVENT
DTSTART:20180321T213000Z
DTEND:20180321T233000Z
X-MICROSOFT-CDO-ALLDAYEVENT:FALSE
SUMMARY:Business After Hours at the New Contemporary Chrysler Dodge Jeep
DESCRIPTION:Join us at the NEW Contemporary Automotive Building for a joint Business After Hours. Our Host Contemporary Chrysler Dodge Jeep\, Turnstone Corp & Revision Energy are excited to welcome you to this new locations and show off all their hard work. What a great networking opportunity. See you there!
X-ALT-DESC;FMTTYPE=text/html:Join us at the NEW Contemporary&nbsp\;Automotive Building for a joint Business After Hours. Our Host Contemporary Chrysler Dodge Jeep\, Turnstone Corp &amp\; Revision Energy are excited to welcome you to this new locations and show off all their hard work. What a great networking opportunity. See you there!
LOCATION:30 Hammond Rd Milford NH
UID:e.2735.3088
SEQUENCE:3
DTSTAMP:20260419T210249Z
URL:http://members.gmsvcc.org/events/details/business-after-hours-at-the-new-contemporary-chrysler-dodge-jeep-3088
END:VEVENT

END:VCALENDAR
