BEGIN:VCALENDAR
VERSION:2.0
PRODID:-//ChamberMaster//Event Calendar 2.0//EN
METHOD:PUBLISH
X-PUBLISHED-TTL:P3D
REFRESH-INTERVAL:P3D
CALSCALE:GREGORIAN
BEGIN:VEVENT
DTSTART:20180718T213000Z
DTEND:20180718T233000Z
X-MICROSOFT-CDO-ALLDAYEVENT:FALSE
SUMMARY:Business After Hours at Benchmark Senior Living- Bedford Falls
DESCRIPTION:Join us at Benchmark Senior Living- Bedford Falls for networking with your fellow Chamber members in July!   Bedford Falls' mission is to make a world of difference in the lives of seniors and their families! Come see their beautiful facility!  See you there!
X-ALT-DESC;FMTTYPE=text/html:Join us at Benchmark Senior Living- Bedford Falls&nbsp\;for networking with your fellow Chamber members&nbsp\;in July!&nbsp\; &nbsp\;Bedford Falls&#39\; mission is to make a world of difference in the lives of seniors and their families! Come see their beautiful facility!&nbsp\;&nbsp\;See you there!
LOCATION:5 Corporate Drive\, Bedford
UID:e.2735.3522
SEQUENCE:3
DTSTAMP:20260419T145552Z
URL:http://members.gmsvcc.org/events/details/business-after-hours-at-the-new-contemporary-chrysler-dodge-jeep-07-18-2018-3522
END:VEVENT

END:VCALENDAR
