BEGIN:VCALENDAR
VERSION:2.0
PRODID:-//ChamberMaster//Event Calendar 2.0//EN
METHOD:PUBLISH
X-PUBLISHED-TTL:P3D
REFRESH-INTERVAL:P3D
CALSCALE:GREGORIAN
BEGIN:VEVENT
DTSTART:20161116T223000Z
DTEND:20161117T003000Z
X-MICROSOFT-CDO-ALLDAYEVENT:FALSE
SUMMARY:Business After Hours at the Brookline Event Center
DESCRIPTION:Join us at the Brookline Event Center for a great networking event featuring our Brookline Chamber members! Check out the Event Center's event space\, perfect for your company meetings\, parties or weddings and functions. Learn more about co-hosting businesses including Cruise Planners\, Custom Fit Web Design\, Premier Home Inspection Services\, Town of Brookline and Ultimate Green Cleaning!
X-ALT-DESC;FMTTYPE=text/html:Join us at the Brookline Event Center for a great&nbsp\;networking event featuring our Brookline Chamber members! Check out the Event Center&#39\;s event space\, perfect for your company meetings\, parties or weddings and functions. Learn more about co-hosting businesses including Cruise Planners\, Custom Fit Web Design\, Premier Home Inspection Services\, Town of Brookline and Ultimate Green Cleaning!
LOCATION:32 Proctor Hill Road\, Brookline\, NH 03033
UID:e.2735.413
SEQUENCE:3
DTSTAMP:20260420T225703Z
URL:http://members.gmsvcc.org/events/details/business-after-hours-at-the-brookline-event-center-413
END:VEVENT

END:VCALENDAR
