BEGIN:VCALENDAR
VERSION:2.0
PRODID:-//ChamberMaster//Event Calendar 2.0//EN
METHOD:PUBLISH
X-PUBLISHED-TTL:P3D
REFRESH-INTERVAL:P3D
CALSCALE:GREGORIAN
BEGIN:VEVENT
DTSTART:20180516T213000Z
DTEND:20180516T233000Z
X-MICROSOFT-CDO-ALLDAYEVENT:FALSE
SUMMARY:Business After Hours at Premier Home Inspection
DESCRIPTION:Join us at Premier Home Inspections for our monthly Business After Hours. Business After Hours are a great opportunity to come mingle and network with your fellow Chamber members while enjoying great food and beverages! \n\nPremier Home Inspection services include: \n\nPre-Listing Inspections\n\nNew Construction Inspections\n\nAnnual Maintenance Inspections\n\nThermal Inspections\n\nPest Inspection
X-ALT-DESC;FMTTYPE=text/html:Join us at Premier Home Inspections for our monthly Business After Hours. Business After Hours are a great opportunity to come mingle and network with your fellow Chamber members while enjoying great food and beverages!&nbsp\;<br />\nPremier Home Inspection services include:&nbsp\;<br />\n<span style="color: rgb(51\, 51\, 51)\; font-family: Calibri\, Verdana\, Geneva\, sans-serif\; font-size: 16px\; background-color: rgb(255\, 255\, 255)\;">Pre-Listing</span><span style="color: rgb(51\, 51\, 51)\; font-family: Calibri\, Verdana\, Geneva\, sans-serif\; font-size: 16px\; background-color: rgb(255\, 255\, 255)\;"> Inspections</span><br style="box-sizing: content-box\; bottom: auto\; clear: none\; color: rgb(51\, 51\, 51)\; content: normal\; direction: inherit\; display: inline\; empty-cells: show\; float: none\; font-variant-numeric: inherit\; font-variant-east-asian: inherit\; font-stretch: inherit\; font-size: 16px\; font-family: Calibri\, Verdana\, Geneva\, sans-serif\; left: auto\; line-height: inherit\; margin: 0px\; max-height: none\; max-width: none\; min-height: initial\; min-width: initial\; opacity: 1\; outline-offset: 0px\; overflow: visible\; padding: 0px\; position: static\; resize: none\; right: auto\; table-layout: auto\; text-overflow: clip\; top: auto\; vertical-align: baseline\; visibility: inherit\; word-break: inherit\; word-wrap: inherit\; z-index: auto\; background: none rgb(255\, 255\, 255)\; border: none\; border-collapse: separate\; border-radius: 0px\; height: auto\; width: auto\;" />\n<span style="color: rgb(51\, 51\, 51)\; font-family: Calibri\, Verdana\, Geneva\, sans-serif\; font-size: 16px\; background-color: rgb(255\, 255\, 255)\;">New Construction Inspections</span><br style="box-sizing: content-box\; bottom: auto\; clear: none\; color: rgb(51\, 51\, 51)\; content: normal\; direction: inherit\; display: inline\; empty-cells: show\; float: none\; font-variant-numeric: inherit\; font-variant-east-asian: inherit\; font-stretch: inherit\; font-size: 16px\; font-family: Calibri\, Verdana\, Geneva\, sans-serif\; left: auto\; line-height: inherit\; margin: 0px\; max-height: none\; max-width: none\; min-height: initial\; min-width: initial\; opacity: 1\; outline-offset: 0px\; overflow: visible\; padding: 0px\; position: static\; resize: none\; right: auto\; table-layout: auto\; text-overflow: clip\; top: auto\; vertical-align: baseline\; visibility: inherit\; word-break: inherit\; word-wrap: inherit\; z-index: auto\; background: none rgb(255\, 255\, 255)\; border: none\; border-collapse: separate\; border-radius: 0px\; height: auto\; width: auto\;" />\n<span style="color: rgb(51\, 51\, 51)\; font-family: Calibri\, Verdana\, Geneva\, sans-serif\; font-size: 16px\; background-color: rgb(255\, 255\, 255)\;">Annual Maintenance Inspections</span><br style="box-sizing: content-box\; bottom: auto\; clear: none\; color: rgb(51\, 51\, 51)\; content: normal\; direction: inherit\; display: inline\; empty-cells: show\; float: none\; font-variant-numeric: inherit\; font-variant-east-asian: inherit\; font-stretch: inherit\; font-size: 16px\; font-family: Calibri\, Verdana\, Geneva\, sans-serif\; left: auto\; line-height: inherit\; margin: 0px\; max-height: none\; max-width: none\; min-height: initial\; min-width: initial\; opacity: 1\; outline-offset: 0px\; overflow: visible\; padding: 0px\; position: static\; resize: none\; right: auto\; table-layout: auto\; text-overflow: clip\; top: auto\; vertical-align: baseline\; visibility: inherit\; word-break: inherit\; word-wrap: inherit\; z-index: auto\; background: none rgb(255\, 255\, 255)\; border: none\; border-collapse: separate\; border-radius: 0px\; height: auto\; width: auto\;" />\n<span style="color: rgb(51\, 51\, 51)\; font-family: Calibri\, Verdana\, Geneva\, sans-serif\; font-size: 16px\; background-color: rgb(255\, 255\, 255)\;">Thermal Inspections</span><br style="box-sizing: content-box\; bottom: auto\; clear: none\; color: rgb(51\, 51\, 51)\; content: normal\; direction: inherit\; display: inline\; empty-cells: show\; float: none\; font-variant-numeric: inherit\; font-variant-east-asian: inherit\; font-stretch: inherit\; font-size: 16px\; font-family: Calibri\, Verdana\, Geneva\, sans-serif\; left: auto\; line-height: inherit\; margin: 0px\; max-height: none\; max-width: none\; min-height: initial\; min-width: initial\; opacity: 1\; outline-offset: 0px\; overflow: visible\; padding: 0px\; position: static\; resize: none\; right: auto\; table-layout: auto\; text-overflow: clip\; top: auto\; vertical-align: baseline\; visibility: inherit\; word-break: inherit\; word-wrap: inherit\; z-index: auto\; background: none rgb(255\, 255\, 255)\; border: none\; border-collapse: separate\; border-radius: 0px\; height: auto\; width: auto\;" />\n<span style="color: rgb(51\, 51\, 51)\; font-family: Calibri\, Verdana\, Geneva\, sans-serif\; font-size: 16px\; background-color: rgb(255\, 255\, 255)\;">Pest Inspection</span>
LOCATION:3 Overlook Drive\, Amherst NH
UID:e.2735.3520
SEQUENCE:3
DTSTAMP:20260419T173908Z
URL:http://members.gmsvcc.org/events/details/business-after-hours-at-premier-home-inspection-3520
END:VEVENT

END:VCALENDAR
