BEGIN:VCALENDAR
VERSION:2.0
PRODID:-//ChamberMaster//Event Calendar 2.0//EN
METHOD:PUBLISH
X-PUBLISHED-TTL:P3D
REFRESH-INTERVAL:P3D
CALSCALE:GREGORIAN
BEGIN:VEVENT
DTSTART:20171213T223000Z
DTEND:20171214T003000Z
X-MICROSOFT-CDO-ALLDAYEVENT:FALSE
SUMMARY:Business After Hours at Peoples United Bank
DESCRIPTION:Peoples United Bank\, Lorden Plaza celebrates the season with members & friends at this December Business After Hours.  Join us for some Holiday Cheer.
X-ALT-DESC;FMTTYPE=text/html:<span style="color: rgb(51\, 51\, 51)\; font-family: sans-serif\, Arial\, Verdana\, &quot\;Trebuchet MS&quot\;\; font-size: 13px\; background-color: rgb(255\, 255\, 255)\;">Peoples United Bank\, Lorden&nbsp\;Plaza celebrates the season with members &amp\; friends at this December Business After Hours. &nbsp\;Join us for some Holiday Cheer.</span><br />\n&nbsp\;
LOCATION:Peoples United Bank 606 Nashua Street Milford NH (Lorden Plaza)
UID:e.2735.2824
SEQUENCE:3
DTSTAMP:20260420T013946Z
URL:http://members.gmsvcc.org/events/details/business-after-hours-at-peoples-united-bank-2824
END:VEVENT

END:VCALENDAR
