BEGIN:VCALENDAR
VERSION:2.0
PRODID:-//ChamberMaster//Event Calendar 2.0//EN
METHOD:PUBLISH
X-PUBLISHED-TTL:P3D
REFRESH-INTERVAL:P3D
CALSCALE:GREGORIAN
BEGIN:VEVENT
DTSTART:20170419T213000Z
DTEND:20170419T233000Z
X-MICROSOFT-CDO-ALLDAYEVENT:FALSE
SUMMARY:Business After Hours at Pastiche Boutique
DESCRIPTION:Join us at Pastiche Boutique on the Milford Oval. Check out Pastiche's unique clothing and accessories shop\, meet owners Karen and Rachel\, and get to know fellow Chambers members and guests.
X-ALT-DESC;FMTTYPE=text/html:Join us at Pastiche Boutique on the Milford Oval. Check out Pastiche&#39\;s unique clothing and accessories shop\, meet owners Karen and Rachel\, and get to know fellow Chambers members and guests.
LOCATION:263 Union Square\, Milford NH 03055.
UID:e.2735.418
SEQUENCE:3
DTSTAMP:20260420T153958Z
URL:http://members.gmsvcc.org/events/details/business-after-hours-at-pastiche-boutique-418
END:VEVENT

END:VCALENDAR
