BEGIN:VCALENDAR
VERSION:2.0
PRODID:-//ChamberMaster//Event Calendar 2.0//EN
METHOD:PUBLISH
X-PUBLISHED-TTL:P3D
REFRESH-INTERVAL:P3D
CALSCALE:GREGORIAN
BEGIN:VEVENT
DTSTART:20170621T213000Z
DTEND:20170621T233000Z
X-MICROSOFT-CDO-ALLDAYEVENT:FALSE
SUMMARY:Business After Hours at Lake Sunapee Bank
DESCRIPTION:Lake Sunapee Welcomes You! \n\nJoin us for refreshments\, raffles and great networking.\n\n\n\nSince 1868\, Lake Sunapee Bank has remained committed to serving our customers by offering financial products and services to help stimulate personal and regional growth.
X-ALT-DESC;FMTTYPE=text/html:<h2 background-color:="" color:="" font-size:="" line-height:="" margin:="" roboto="" style="font-style:italic\;" text-align:=""><span style="font-size:14px\;"><span style="font-family:arial\;">Lake Sunapee Welcomes You!&nbsp\;</span></span></h2>\n\n<h2 background-color:="" color:="" font-size:="" line-height:="" margin:="" roboto="" style="box-sizing: border-box\; -webkit-font-smoothing: antialiased\; font-family: " text-align:=""><span style="font-size:14px\;"><span style="font-family:arial\;">Join us for refreshments\, raffles and great networking.<br />\n<br />\nSince 1868\, Lake Sunapee Bank has remained committed to serving our customers by offering financial products and services to help stimulate personal and regional growth.</span></span></h2>\n
LOCATION:32 Elm Street\, Milford NH 03055
UID:e.2735.420
SEQUENCE:3
DTSTAMP:20260420T104734Z
URL:http://members.gmsvcc.org/events/details/business-after-hours-at-parker-s-maple-barn-420
END:VEVENT

END:VCALENDAR
