BEGIN:VCALENDAR
VERSION:2.0
PRODID:-//ChamberMaster//Event Calendar 2.0//EN
METHOD:PUBLISH
X-PUBLISHED-TTL:P3D
REFRESH-INTERVAL:P3D
CALSCALE:GREGORIAN
BEGIN:VEVENT
DTSTART:20160720T213000Z
DTEND:20160720T233000Z
X-MICROSOFT-CDO-ALLDAYEVENT:FALSE
SUMMARY:Business After Hours at Milford Trails
DESCRIPTION:Join us at Milford Trails\, a property of Red Oak Apartment Homes\, for a Networking Event that will be the talk of the summer! Check out the newly renovated apartments and enjoy some great networking and BBQ steak tips & chicken from The Happy Butcher poolside. Awesome giveaways and a BIG ANNOUNCEMENT from Red Oak! Great way to spend a summer's evening!
X-ALT-DESC;FMTTYPE=text/html:Join us at Milford Trails\, a property of Red Oak Apartment Homes\, for a&nbsp\;Networking Event that will be the talk of the summer! Check out the newly renovated apartments and enjoy some great networking and BBQ steak tips &amp\; chicken from The Happy Butcher poolside. Awesome giveaways and a BIG ANNOUNCEMENT from Red Oak!&nbsp\;Great way to spend a summer&#39\;s evening!&nbsp\;
LOCATION:90 Powers Street\, Milford NH 03055.
UID:e.2735.143
SEQUENCE:3
DTSTAMP:20260421T035457Z
URL:http://members.gmsvcc.org/events/details/business-after-hours-at-milford-trails-07-20-2016-143
END:VEVENT

END:VCALENDAR
