BEGIN:VCALENDAR
VERSION:2.0
PRODID:-//ChamberMaster//Event Calendar 2.0//EN
METHOD:PUBLISH
X-PUBLISHED-TTL:P3D
REFRESH-INTERVAL:P3D
CALSCALE:GREGORIAN
BEGIN:VEVENT
DTSTART:20180919T213000Z
DTEND:20180919T233000Z
X-MICROSOFT-CDO-ALLDAYEVENT:FALSE
SUMMARY:Business After Hours at LaBelle Winery
DESCRIPTION:Come network with fellow Chamber members on a Fall Night at the beautiful LaBelle Winery!\n\n\n\nNew! Hey Chamber members\, register online on or before September 17th  for a chance to win a  free "Member Spotlight"  in the Chamber e-newsletter!
X-ALT-DESC;FMTTYPE=text/html:<span style="font-size:12px\;">Come network with fellow Chamber members on a Fall Night at the beautiful LaBelle Winery!<br />\n<br />\nNew! Hey Chamber members\, register online&nbsp\;on or before September 17th&nbsp\; for a chance to win a&nbsp\; free &quot\;Member Spotlight&quot\;&nbsp\; in the Chamber e-newsletter!&nbsp\;</span><br />\n&nbsp\;
LOCATION:345 Route 101 Amherst NH 03031
UID:e.2735.3579
SEQUENCE:3
DTSTAMP:20260419T122008Z
URL:http://members.gmsvcc.org/events/details/business-after-hours-at-labelle-winery-3579
END:VEVENT

END:VCALENDAR
