BEGIN:VCALENDAR
VERSION:2.0
PRODID:-//ChamberMaster//Event Calendar 2.0//EN
METHOD:PUBLISH
X-PUBLISHED-TTL:P3D
REFRESH-INTERVAL:P3D
CALSCALE:GREGORIAN
BEGIN:VEVENT
DTSTART:20170719T213000Z
DTEND:20170719T233000Z
X-MICROSOFT-CDO-ALLDAYEVENT:FALSE
SUMMARY:Business After Hours at King Street Vineyards
DESCRIPTION:Join us at King Street Vineyards\, Home of King Street Vineyards Wine tastings for an evening of  NH Wine\, Spirit and Great food. King Street Vineyards "KSV"  is your local single-source expert for creating your own home vineyard or home orchard. They will help you select the right grape vines and fruit trees\, and then work with you to design\, build and maintain an outdoor living and eatable landscape for years of wonderful experiences. They also build and offer premium quality outdoor living products for patio and garden enthusiasts. This is a great way to spend a summer's evening!
X-ALT-DESC;FMTTYPE=text/html:<span style="font-size:14px\;"><span style="font-family:tahoma\;">Join us at King Street Vineyards\, Home of King Street Vineyards Wine tastings for an evening of&nbsp\;&nbsp\;NH Wine\, Spirit and Great food. <span style="background-color: rgb(255\, 255\, 255)\;">King Street Vineyards &quot\;KSV&quot\; &nbsp\;is your local single-source expert for creating your own home vineyard or home orchard. They will help you select the right grape vines and fruit trees\, and then work with you to design\, build and maintain an outdoor living and eatable landscape for years of wonderful experiences. They also build and offer premium quality outdoor living products for patio and garden enthusiasts. This is a g</span>reat way to spend a summer&#39\;s evening!&nbsp\;</span></span>
LOCATION:25 King Street\, Milford NH
UID:e.2735.421
SEQUENCE:3
DTSTAMP:20260420T091949Z
URL:http://members.gmsvcc.org/events/details/business-after-hours-at-king-street-vineyards-421
END:VEVENT

END:VCALENDAR
