BEGIN:VCALENDAR
VERSION:2.0
PRODID:-//ChamberMaster//Event Calendar 2.0//EN
METHOD:PUBLISH
X-PUBLISHED-TTL:P3D
REFRESH-INTERVAL:P3D
CALSCALE:GREGORIAN
BEGIN:VEVENT
DTSTART:20170215T223000Z
DTEND:20170216T003000Z
X-MICROSOFT-CDO-ALLDAYEVENT:FALSE
SUMMARY:Business After Hours at Holler Marketing
DESCRIPTION:Join us at Holler Marketing (same building as C1M Photography) for great networking and to learn about the power of testimonials.Holler Marketing offers a systematic approach to contact your customers after your work has completed to garner feedback   positive and negative. If a client had a less than ideal experience it allows you to react before things boil over. If a client sings your praises\, we can turn that into a testimonial or an online review.
X-ALT-DESC;FMTTYPE=text/html:Join us at Holler Marketing (same building as C1M Photography) for great networking and to learn about the power of testimonials.Holler Marketing&nbsp\;<span style="color: rgb(0\, 30\, 33)\; font-family: &quot\;Open Sans&quot\;\, HelveticaNeue\, &quot\;Helvetica Neue&quot\;\, Helvetica\, Arial\, sans-serif\;">offers a systematic approach to contact your customers after your work has completed to garner feedback &ndash\; positive and negative. If a client had a less than ideal experience it allows you to react before things boil over. If a client sings your praises\, we can turn that into a testimonial or an online review.</span>
LOCATION:98 Route 101A Amherst NH 03031 same location as C1M Photography
UID:e.2735.416
SEQUENCE:3
DTSTAMP:20260420T183744Z
URL:http://members.gmsvcc.org/events/details/business-after-hours-at-holler-marketing-416
END:VEVENT

END:VCALENDAR
