BEGIN:VCALENDAR
VERSION:2.0
PRODID:-//ChamberMaster//Event Calendar 2.0//EN
METHOD:PUBLISH
X-PUBLISHED-TTL:P3D
REFRESH-INTERVAL:P3D
CALSCALE:GREGORIAN
BEGIN:VEVENT
DTSTART:20171115T223000Z
DTEND:20171116T003000Z
X-MICROSOFT-CDO-ALLDAYEVENT:FALSE
SUMMARY:Business After Hours at Granite Bank
DESCRIPTION:Granite Bank welcomes the Souhegan Valley Chamber for a Business After Hours.  Lots of networking opportunities.
X-ALT-DESC;FMTTYPE=text/html:<span style="color: rgb(51\, 51\, 51)\; font-family: sans-serif\, Arial\, Verdana\, &quot\;Trebuchet MS&quot\;\; font-size: 13px\; background-color: rgb(255\, 255\, 255)\;">Granite Bank&nbsp\;welcomes the Souhegan Valley Chamber for a Business After Hours. &nbsp\;Lots of networking opportunities.</span><br />\n&nbsp\;
LOCATION:Granite Bank 69 Route 101A Amherst NH
UID:e.2735.2823
SEQUENCE:3
DTSTAMP:20260420T030733Z
URL:http://members.gmsvcc.org/events/details/business-after-hours-at-granite-bank-2823
END:VEVENT

END:VCALENDAR
