BEGIN:VCALENDAR
VERSION:2.0
PRODID:-//ChamberMaster//Event Calendar 2.0//EN
METHOD:PUBLISH
X-PUBLISHED-TTL:P3D
REFRESH-INTERVAL:P3D
CALSCALE:GREGORIAN
BEGIN:VEVENT
DTSTART:20180418T213000Z
DTEND:20180418T233000Z
X-MICROSOFT-CDO-ALLDAYEVENT:FALSE
SUMMARY:Business After Hours at Classic Signs
DESCRIPTION:Join us at the Classic Signs
X-ALT-DESC;FMTTYPE=text/html:Join us at the Classic Signs
LOCATION:13 Columbia Drive Amherst NH
UID:e.2735.3519
SEQUENCE:3
DTSTAMP:20260419T193623Z
URL:http://members.gmsvcc.org/events/details/business-after-hours-at-classic-signs-3519
END:VEVENT

END:VCALENDAR
